BEGIN:VCALENDAR
VERSION:2.0
PRODID:spatie/icalendar-generator
DESCRIPTION:hibikism.comのイベント
X-WR-CALDESC:hibikism.comのイベント
REFRESH-INTERVAL;VALUE=DURATION:PT1440M
X-PUBLISHED-TTL:PT1440M
BEGIN:VTIMEZONE
TZID:Etc/GMT+0
BEGIN:STANDARD
DTSTART:20180529T230000Z
TZOFFSETFROM:+0000
TZOFFSETTO:+0000
END:STANDARD
END:VTIMEZONE
BEGIN:VTIMEZONE
TZID:UTC
BEGIN:STANDARD
DTSTART:20250728T111853Z
TZOFFSETFROM:+0000
TZOFFSETTO:+0000
END:STANDARD
END:VTIMEZONE
BEGIN:VEVENT
UID:217-133
DTSTAMP:20260424T111853Z
SUMMARY:Tokyo Decadance Z
LOCATION:
ORGANIZER;CN=HIBIKI:MAILTO:info@hibikism.com
DTSTART;TZID=Etc/GMT+0:20190223T230000
DTEND;TZID=Etc/GMT+0:20190223T233000
X-ALT-DESC;FMTTYPE=TEXT/HTML:ロリータ、ギャル、ゴシック、フ
 ェティッシュ、クラバーetc日本のカルチャーをごちゃ
 まぜにしたハッピーなパーティ&amp;hellip\;
CATEGORIES:outside
URL;VALUE=URI:http://hibikism.com/mc-events/tokyo-decadance-z/
METHOD:PUBLISH
END:VEVENT
END:VCALENDAR